BEGIN:VCALENDAR
VERSION:2.0
PRODID:-//WAFY - Myersville, MD ( - ECPv5.6.0//NONSGML v1.0//EN
CALSCALE:GREGORIAN
METHOD:PUBLISH
X-WR-CALNAME:WAFY - Myersville, MD (
X-ORIGINAL-URL:https://www.key103radio.com
X-WR-CALDESC:Events for WAFY - Myersville, MD (
BEGIN:VTIMEZONE
TZID:America/New_York
BEGIN:DAYLIGHT
TZOFFSETFROM:-0500
TZOFFSETTO:-0400
TZNAME:EDT
DTSTART:20260308T070000
END:DAYLIGHT
BEGIN:STANDARD
TZOFFSETFROM:-0400
TZOFFSETTO:-0500
TZNAME:EST
DTSTART:20261101T060000
END:STANDARD
END:VTIMEZONE
BEGIN:VEVENT
DTSTART;TZID=America/New_York:20260418T100000
DTEND;TZID=America/New_York:20260418T130000
DTSTAMP:20260426T000823
CREATED:20260309T171255Z
LAST-MODIFIED:20260309T171255Z
UID:145169-1776506400-1776517200@www.key103radio.com
SUMMARY:Frederick Playwrights Circle
DESCRIPTION:A safe place for playwrights at all career levels to share and discuss their work. A positive\, supportive environment for theatre storytellers seeking community.
URL:https://www.key103radio.com/event/frederick-playwrights-circle/2026-04-18/
LOCATION:Maryland Ensemble Theatre\, 31 W. Patrick St.\, Frederick\, MD\, 21701\, United States
CATEGORIES:Community Calendar
ATTACH;FMTTYPE=image/jpeg:https://dehayf5mhw1h7.cloudfront.net/wp-content/uploads/sites/1930/2026/03/06145109/647692319_122202507122469500_650548008780158128_n.jpg
ORGANIZER;CN="Frederick%20Playwrights%20Circle":MAILTO:fredplaywrights@gmail.com
END:VEVENT
BEGIN:VEVENT
DTSTART;TZID=America/New_York:20260404T100000
DTEND;TZID=America/New_York:20260404T130000
DTSTAMP:20260426T000823
CREATED:20260309T171255Z
LAST-MODIFIED:20260309T171255Z
UID:145168-1775296800-1775307600@www.key103radio.com
SUMMARY:Frederick Playwrights Circle
DESCRIPTION:A safe place for playwrights at all career levels to share and discuss their work. A positive\, supportive environment for theatre storytellers seeking community.
URL:https://www.key103radio.com/event/frederick-playwrights-circle/2026-04-04/
LOCATION:Maryland Ensemble Theatre\, 31 W. Patrick St.\, Frederick\, MD\, 21701\, United States
CATEGORIES:Community Calendar
ATTACH;FMTTYPE=image/jpeg:https://dehayf5mhw1h7.cloudfront.net/wp-content/uploads/sites/1930/2026/03/06145109/647692319_122202507122469500_650548008780158128_n.jpg
ORGANIZER;CN="Frederick%20Playwrights%20Circle":MAILTO:fredplaywrights@gmail.com
END:VEVENT
BEGIN:VEVENT
DTSTART;TZID=America/New_York:20260321T100000
DTEND;TZID=America/New_York:20260321T130000
DTSTAMP:20260426T000823
CREATED:20260309T171254Z
LAST-MODIFIED:20260309T171254Z
UID:145167-1774087200-1774098000@www.key103radio.com
SUMMARY:Frederick Playwrights Circle
DESCRIPTION:A safe place for playwrights at all career levels to share and discuss their work. A positive\, supportive environment for theatre storytellers seeking community.
URL:https://www.key103radio.com/event/frederick-playwrights-circle/2026-03-21/
LOCATION:Maryland Ensemble Theatre\, 31 W. Patrick St.\, Frederick\, MD\, 21701\, United States
CATEGORIES:Community Calendar
ATTACH;FMTTYPE=image/jpeg:https://dehayf5mhw1h7.cloudfront.net/wp-content/uploads/sites/1930/2026/03/06145109/647692319_122202507122469500_650548008780158128_n.jpg
ORGANIZER;CN="Frederick%20Playwrights%20Circle":MAILTO:fredplaywrights@gmail.com
END:VEVENT
BEGIN:VEVENT
DTSTART;TZID=America/New_York:20260307T100000
DTEND;TZID=America/New_York:20260307T130000
DTSTAMP:20260426T000823
CREATED:20260309T171253Z
LAST-MODIFIED:20260309T171253Z
UID:145164-1772877600-1772888400@www.key103radio.com
SUMMARY:Frederick Playwrights Circle
DESCRIPTION:A safe place for playwrights at all career levels to share and discuss their work. A positive\, supportive environment for theatre storytellers seeking community.
URL:https://www.key103radio.com/event/frederick-playwrights-circle/2026-03-07/
LOCATION:Maryland Ensemble Theatre\, 31 W. Patrick St.\, Frederick\, MD\, 21701\, United States
CATEGORIES:Community Calendar
ATTACH;FMTTYPE=image/jpeg:https://dehayf5mhw1h7.cloudfront.net/wp-content/uploads/sites/1930/2026/03/06145109/647692319_122202507122469500_650548008780158128_n.jpg
ORGANIZER;CN="Frederick%20Playwrights%20Circle":MAILTO:fredplaywrights@gmail.com
END:VEVENT
END:VCALENDAR