BEGIN:VCALENDAR
VERSION:2.0
PRODID:-//WAFY - Myersville, MD ( - ECPv5.6.0//NONSGML v1.0//EN
CALSCALE:GREGORIAN
METHOD:PUBLISH
X-WR-CALNAME:WAFY - Myersville, MD (
X-ORIGINAL-URL:https://www.key103radio.com
X-WR-CALDESC:Events for WAFY - Myersville, MD (
BEGIN:VTIMEZONE
TZID:America/New_York
BEGIN:DAYLIGHT
TZOFFSETFROM:-0500
TZOFFSETTO:-0400
TZNAME:EDT
DTSTART:20260308T070000
END:DAYLIGHT
BEGIN:STANDARD
TZOFFSETFROM:-0400
TZOFFSETTO:-0500
TZNAME:EST
DTSTART:20261101T060000
END:STANDARD
END:VTIMEZONE
BEGIN:VEVENT
DTSTART;TZID=America/New_York:20260515T203000
DTEND;TZID=America/New_York:20260515T213000
DTSTAMP:20260425T135928
CREATED:20250902T161751Z
LAST-MODIFIED:20250902T161751Z
UID:141067-1778877000-1778880600@www.key103radio.com
SUMMARY:Oh Crit! at MET Comedy Night
DESCRIPTION:Roll for initiative! Oh Crit performs improv comedy fused with Dungeons & Dragons! Join them as they embark on an adventure of twists and turns\, bizarre characters\, and occasional epic failure… All with the help from YOU and the whim of an unforgiving 20-sided die! \nAt every Oh Crit! performance we will be collecting food donations on behalf of the Frederick Community Fridge.
URL:https://www.key103radio.com/event/oh-crit-at-met-comedy-night/2026-05-15/
LOCATION:Maryland Ensemble Theatre\, 31 W. Patrick St.\, Frederick\, MD\, 21701\, United States
CATEGORIES:Community Calendar,Community Events,Event
ATTACH;FMTTYPE=image/png:https://dehayf5mhw1h7.cloudfront.net/wp-content/uploads/sites/1930/2025/08/31142345/3.png
ORGANIZER;CN="Maryland%20Ensemble%20Theatre":MAILTO:jherber@marylandensemble.org
END:VEVENT
BEGIN:VEVENT
DTSTART;TZID=America/New_York:20260516T203000
DTEND;TZID=America/New_York:20260516T213000
DTSTAMP:20260425T135928
CREATED:20250902T161751Z
LAST-MODIFIED:20250902T161751Z
UID:141068-1778963400-1778967000@www.key103radio.com
SUMMARY:Oh Crit! at MET Comedy Night
DESCRIPTION:Roll for initiative! Oh Crit performs improv comedy fused with Dungeons & Dragons! Join them as they embark on an adventure of twists and turns\, bizarre characters\, and occasional epic failure… All with the help from YOU and the whim of an unforgiving 20-sided die! \nAt every Oh Crit! performance we will be collecting food donations on behalf of the Frederick Community Fridge.
URL:https://www.key103radio.com/event/oh-crit-at-met-comedy-night/2026-05-16/
LOCATION:Maryland Ensemble Theatre\, 31 W. Patrick St.\, Frederick\, MD\, 21701\, United States
CATEGORIES:Community Calendar,Community Events,Event
ATTACH;FMTTYPE=image/png:https://dehayf5mhw1h7.cloudfront.net/wp-content/uploads/sites/1930/2025/08/31142345/3.png
ORGANIZER;CN="Maryland%20Ensemble%20Theatre":MAILTO:jherber@marylandensemble.org
END:VEVENT
END:VCALENDAR