BEGIN:VCALENDAR
VERSION:2.0
PRODID:-//WAFY - Myersville, MD ( - ECPv5.6.0//NONSGML v1.0//EN
CALSCALE:GREGORIAN
METHOD:PUBLISH
X-WR-CALNAME:WAFY - Myersville, MD (
X-ORIGINAL-URL:https://www.key103radio.com
X-WR-CALDESC:Events for WAFY - Myersville, MD (
BEGIN:VTIMEZONE
TZID:America/New_York
BEGIN:DAYLIGHT
TZOFFSETFROM:-0500
TZOFFSETTO:-0400
TZNAME:EDT
DTSTART:20260308T070000
END:DAYLIGHT
BEGIN:STANDARD
TZOFFSETFROM:-0400
TZOFFSETTO:-0500
TZNAME:EST
DTSTART:20261101T060000
END:STANDARD
END:VTIMEZONE
BEGIN:VEVENT
DTSTART;TZID=America/New_York:20260508T203000
DTEND;TZID=America/New_York:20260508T213000
DTSTAMP:20260425T121604
CREATED:20250902T161911Z
LAST-MODIFIED:20250902T161911Z
UID:141075-1778272200-1778275800@www.key103radio.com
SUMMARY:That's What She Said at MET Comedy Night
DESCRIPTION:That’s What She Said is an all female improv team. Specializing in long form improv\, these ladies spin you a hilarious story. They start with inspiration from the women in your life and then they blend in funny stories of their own.
URL:https://www.key103radio.com/event/thats-what-she-said-at-met-comedy-night/2026-05-08/
LOCATION:Maryland Ensemble Theatre\, 31 W. Patrick St.\, Frederick\, MD\, 21701\, United States
CATEGORIES:Community Calendar,Community Events,Event
ATTACH;FMTTYPE=image/png:https://dehayf5mhw1h7.cloudfront.net/wp-content/uploads/sites/1930/2025/08/31151124/6.png
ORGANIZER;CN="Maryland%20Ensemble%20Theatre":MAILTO:contact@marylandensemble.org
END:VEVENT
BEGIN:VEVENT
DTSTART;TZID=America/New_York:20260509T203000
DTEND;TZID=America/New_York:20260509T213000
DTSTAMP:20260425T121604
CREATED:20250902T161912Z
LAST-MODIFIED:20250902T161912Z
UID:141076-1778358600-1778362200@www.key103radio.com
SUMMARY:That's What She Said at MET Comedy Night
DESCRIPTION:That’s What She Said is an all female improv team. Specializing in long form improv\, these ladies spin you a hilarious story. They start with inspiration from the women in your life and then they blend in funny stories of their own.
URL:https://www.key103radio.com/event/thats-what-she-said-at-met-comedy-night/2026-05-09/
LOCATION:Maryland Ensemble Theatre\, 31 W. Patrick St.\, Frederick\, MD\, 21701\, United States
CATEGORIES:Community Calendar,Community Events,Event
ATTACH;FMTTYPE=image/png:https://dehayf5mhw1h7.cloudfront.net/wp-content/uploads/sites/1930/2025/08/31151124/6.png
ORGANIZER;CN="Maryland%20Ensemble%20Theatre":MAILTO:contact@marylandensemble.org
END:VEVENT
END:VCALENDAR